BEGIN:VCALENDAR
VERSION:2.0
PRODID:-//Izabela Stocka - ECPv6.0.4//NONSGML v1.0//EN
CALSCALE:GREGORIAN
METHOD:PUBLISH
X-WR-CALNAME:Izabela Stocka
X-ORIGINAL-URL:https://stockaizabela.com
X-WR-CALDESC:Events for Izabela Stocka
REFRESH-INTERVAL;VALUE=DURATION:PT1H
X-Robots-Tag:noindex
X-PUBLISHED-TTL:PT1H
BEGIN:VTIMEZONE
TZID:Europe/Zurich
BEGIN:DAYLIGHT
TZOFFSETFROM:+0100
TZOFFSETTO:+0200
TZNAME:CEST
DTSTART:20220327T010000
END:DAYLIGHT
BEGIN:STANDARD
TZOFFSETFROM:+0200
TZOFFSETTO:+0100
TZNAME:CET
DTSTART:20221030T010000
END:STANDARD
END:VTIMEZONE
BEGIN:VEVENT
DTSTART;TZID=Europe/Zurich:20221218T200000
DTEND;TZID=Europe/Zurich:20221218T213000
DTSTAMP:20260422T000516
CREATED:20221211T170512Z
LAST-MODIFIED:20221222T162258Z
UID:29064-1671393600-1671399000@stockaizabela.com
SUMMARY:London Film Music Orchestra: Christmas tour
DESCRIPTION:
URL:https://stockaizabela.com/event/london-film-music-orchestra-christmas-tour/
LOCATION:Sheldonian Theatre\, Broad St\, Oxford\, OX1 3AZ\, Oxford
END:VEVENT
BEGIN:VEVENT
DTSTART;TZID=Europe/Zurich:20221208T173000
DTEND;TZID=Europe/Zurich:20221208T173000
DTSTAMP:20260422T000516
CREATED:20221203T184439Z
LAST-MODIFIED:20221203T184439Z
UID:28976-1670520600-1670520600@stockaizabela.com
SUMMARY:London Film Music Orchestra: Moonlight Tour
DESCRIPTION:
URL:https://stockaizabela.com/event/london-film-music-orchestra-moonlight-tour-4/
LOCATION:Jubilee Central\, 62 King Edward Street Kingston upon Hull HU1 3SQ\, Hull
END:VEVENT
BEGIN:VEVENT
DTSTART;TZID=Europe/Zurich:20221203T150000
DTEND;TZID=Europe/Zurich:20221203T170000
DTSTAMP:20260422T000516
CREATED:20221203T184252Z
LAST-MODIFIED:20221203T184252Z
UID:28973-1670079600-1670086800@stockaizabela.com
SUMMARY:London Film Music Orchestra: Moonlight Tour
DESCRIPTION:
URL:https://stockaizabela.com/event/london-film-music-orchestra-moonlight-tour-3/
LOCATION:The Empire\, 22 Hertford Street Coventry CV1 1LF\, Coventry\, United Kingdom
END:VEVENT
BEGIN:VEVENT
DTSTART;TZID=Europe/Zurich:20221106T160000
DTEND;TZID=Europe/Zurich:20221106T170000
DTSTAMP:20260422T000516
CREATED:20221203T184110Z
LAST-MODIFIED:20221203T184110Z
UID:28970-1667750400-1667754000@stockaizabela.com
SUMMARY:London Film Music Orchestra: Moonlight Tour
DESCRIPTION:
URL:https://stockaizabela.com/event/london-film-music-orchestra-moonlight-tour-2/
LOCATION:Cardiff Depot\, Curran Embankment\, CF10 5DY\, Cardiff\, United Kingdom
END:VEVENT
BEGIN:VEVENT
DTSTART;TZID=Europe/Zurich:20221105T171500
DTEND;TZID=Europe/Zurich:20221105T171500
DTSTAMP:20260422T000516
CREATED:20221203T183939Z
LAST-MODIFIED:20221203T183939Z
UID:28967-1667668500-1667668500@stockaizabela.com
SUMMARY:London Film Music Orchestra: Moonlight Tour
DESCRIPTION:
URL:https://stockaizabela.com/event/london-film-music-orchestra-moonlight-tour/
LOCATION:Truro Cathedral\, "St. Marys St\, TR1 2AF"\, Truro\, United Kingdom
END:VEVENT
BEGIN:VEVENT
DTSTART;TZID=Europe/Zurich:20221022T131000
DTEND;TZID=Europe/Zurich:20221022T170000
DTSTAMP:20260422T000516
CREATED:20221203T183800Z
LAST-MODIFIED:20221203T183800Z
UID:28964-1666444200-1666458000@stockaizabela.com
SUMMARY:Szymanowski & Weinberg: Lunchtime Concert
DESCRIPTION:
URL:https://stockaizabela.com/event/szymanowski-weinberg-lunchtime-concert/
LOCATION:Croydon Minster\, Church St\, CR0 1RN\, Croydon\, United Kingdom
END:VEVENT
END:VCALENDAR