BEGIN:VCALENDAR
VERSION:2.0
PRODID:-//Izabela Stocka - ECPv6.0.4//NONSGML v1.0//EN
CALSCALE:GREGORIAN
METHOD:PUBLISH
X-WR-CALNAME:Izabela Stocka
X-ORIGINAL-URL:https://stockaizabela.com
X-WR-CALDESC:Events for Izabela Stocka
REFRESH-INTERVAL;VALUE=DURATION:PT1H
X-Robots-Tag:noindex
X-PUBLISHED-TTL:PT1H
BEGIN:VTIMEZONE
TZID:Europe/Zurich
BEGIN:DAYLIGHT
TZOFFSETFROM:+0100
TZOFFSETTO:+0200
TZNAME:CEST
DTSTART:20250330T010000
END:DAYLIGHT
BEGIN:STANDARD
TZOFFSETFROM:+0200
TZOFFSETTO:+0100
TZNAME:CET
DTSTART:20251026T010000
END:STANDARD
BEGIN:DAYLIGHT
TZOFFSETFROM:+0100
TZOFFSETTO:+0200
TZNAME:CEST
DTSTART:20260329T010000
END:DAYLIGHT
BEGIN:STANDARD
TZOFFSETFROM:+0200
TZOFFSETTO:+0100
TZNAME:CET
DTSTART:20261025T010000
END:STANDARD
TZID:Europe/London
BEGIN:DAYLIGHT
TZOFFSETFROM:+0000
TZOFFSETTO:+0100
TZNAME:BST
DTSTART:20260329T010000
END:DAYLIGHT
BEGIN:STANDARD
TZOFFSETFROM:+0100
TZOFFSETTO:+0000
TZNAME:GMT
DTSTART:20261025T010000
END:STANDARD
END:VTIMEZONE
BEGIN:VEVENT
DTSTART;TZID=Europe/Zurich:20251213T193000
DTEND;TZID=Europe/Zurich:20251213T210000
DTSTAMP:20260419T164257
CREATED:20260326T150020Z
LAST-MODIFIED:20260326T150020Z
UID:29474-1765654200-1765659600@stockaizabela.com
SUMMARY:PICCADILLY SINFONIETTA | VIVALDI 4 SEASONS AND CORELLI CHRISTMAS CONCERT
DESCRIPTION:Enjoy an outstanding musical evening in the run-up to Christmas with a performance of Vivaldi’s timeless classic\, The Four Seasons\, and other much loved works in the spectacular candlelit setting of St James Church Piccadilly. Featuring some of the UK’s most exceptional singers and orchestral musicians\, The Piccadilly Sinfonietta will treat you to a festive musical evening to remember! The programme also includes popular works by Corelli\, Handel and Adam \n‘Stunning’ – Classic FM \nFeaturing\nThe Piccadilly Sinfonietta\nSusan Parkes (soprano)\nHarriet Mackenzie (violin)\nTrumpet players to be announced \nProgramme\nVivaldi – Concerto for two trumpets\nCorelli – Christmas Concerto\nHandel – He Shall Feed His Flock\nHandel – Rejoice Greatly\nAdam – O Holy Night\nVivaldi – Four Seasons \nSince its formation in 2017\, the Piccadilly Sinfonietta have become a regular feature on the UK concert scene\, giving over 200 performances a year in some of the country’s most beautiful and prestigious venues. The ensemble comprises some of the most prodigious musical talent and performs exclusively with leading virtuoso soloists. The group performs under the artistic direction of its founder\, concert pianist Warren Mailley-Smith and focuses on the virtuoso concerto repertoire of the baroque\, classical and early romantic periods.
URL:https://stockaizabela.com/event/piccadilly-sinfonietta-vivaldi-4-seasons-and-corelli-christmas-concert/
LOCATION:St. James Piccadilly\, St James Piccadilly\, London\, W1J 9LL\, United Kingdom
END:VEVENT
BEGIN:VEVENT
DTSTART;TZID=Europe/Zurich:20251231T210000
DTEND;TZID=Europe/Zurich:20260101T013000
DTSTAMP:20260419T164257
CREATED:20260326T150819Z
LAST-MODIFIED:20260326T150819Z
UID:29476-1767214800-1767231000@stockaizabela.com
SUMMARY:ROYAL MASQUERADE BALL | DUBAI NEW YEAR'S EVE ELECTRIC SHOW
DESCRIPTION:Ring in 2025 at Dubai’s Most Luxurious NYE Party: The Raffles Royal Masquerade Ball\nPrepare for an unforgettable start to 2025 at the glamorous Raffles Royal Masquerade Ball\, hosted at Raffles The Palm Dubai! This New Year’s Eve event\, starting at 7:30 PM on December 31\, offers a perfect blend of opulence and entertainment for those seeking an elegant celebration. Dress in your finest black-tie attire\, don a dazzling mask\, and get ready for an evening of indulgence\, music\, and festivities.
URL:https://stockaizabela.com/event/royal-masquerade-ball-dubai-new-years-eve-electric-show/
LOCATION:Raffles Dubai\, West Crescent\, Palm Jumeirah\, Dubai\, 212484\, United Arab Emirates
END:VEVENT
BEGIN:VEVENT
DTSTART;TZID=Europe/Zurich:20260320T193000
DTEND;TZID=Europe/Zurich:20260320T213000
DTSTAMP:20260419T164257
CREATED:20260326T151515Z
LAST-MODIFIED:20260326T151515Z
UID:29479-1774035000-1774042200@stockaizabela.com
SUMMARY:ULSTER ORCHESTRA | OF RIVERS & MOUNTAINS
DESCRIPTION:Falla The Three-Cornered Hat Suite No. 1\nFrancisco Coll Turia\nSmetana Selection from Má vlast \nEMILIA HOVING CONDUCTOR\nSEAN SHIBE GUITAR \nRivers and landscapes shape the course of this programme\, which has its source in Spain and flows to Bohemia. The story of Falla’s Three-Cornered Hat centres around a miller\, his beautiful wife and the local magistrate\, and the music is packed with references to Spanish folk music. Turia is named after the Spanish river that meets the Mediterranean near Valencia\, and the solo guitar shimmers and sparkles like sun on the water. From here we move further east and join another river\, the Vltava\, as it wends its way through Smetana’s beautiful musical depiction of his Bohemian homeland.
URL:https://stockaizabela.com/event/ulster-orchestra-of-rivers-mountains/
LOCATION:Ulster Hall\, 4 Bedford Street\, Belfast\, BT2 7FF\, United Kingdom
END:VEVENT
BEGIN:VEVENT
DTSTART;TZID=Europe/Zurich:20260328T193000
DTEND;TZID=Europe/Zurich:20260328T210000
DTSTAMP:20260419T164257
CREATED:20260326T152239Z
LAST-MODIFIED:20260326T152239Z
UID:29483-1774726200-1774731600@stockaizabela.com
SUMMARY:PICCADILLY SINFONIETTA | VIVALDI 4 SEASONS AND TCHAIKOVSKY SERENADE
DESCRIPTION:Step into the timeless beauty of St Clement Danes\, an architectural jewel in the heart of the city  – the perfect candlelit setting for an unforgettable evening of music. \nExperience Vivaldi’s iconic masterpiece The Four Seasons as you’ve never heard it before. A cornerstone of classical music\, this vivid and revolutionary work captures the essence of nature with breathtaking virtuosity and emotional power. Its influence continues to echo through centuries of music-making\, and remains one of the most beloved compositions in the classical canon. The programme also includes Tchaikovsky’s exquisite Serenade for Strings. \nThis captivating programme\, performed by the celebrated Piccadilly Sinfonietta with leading violinist Ellie Fagg\, promises an evening of elegance and inspiration. With over 200 performances annually\, this acclaimed ensemble—featuring some of the UK’s most gifted virtuosi—has become a mainstay on the British classical scene. Under the artistic direction of concert pianist Warren Mailley-Smith\, the group specialises in the dazzling concerto repertoire of the baroque\, classical\, and early romantic periods. \n‘Stunning‘ – Classic FM \nThe concert is designed to fit perfectly with your evening plans\, with a wealth of restaurants and bars nearby to complete your night.
URL:https://stockaizabela.com/event/piccadilly-sinfonietta-vivaldi-4-seasons-and-tchaikovsky-serenade/
LOCATION:St. Clement Danes Church\, Central Church of the Royal Air Force\, Strand\, London\, WC2R 1DH\, United Kingdom
END:VEVENT
BEGIN:VEVENT
DTSTART;VALUE=DATE:20260415
DTEND;VALUE=DATE:20260417
DTSTAMP:20260419T164257
CREATED:20260326T153126Z
LAST-MODIFIED:20260326T153126Z
UID:29486-1776211200-1776383999@stockaizabela.com
SUMMARY:SOUTH EAST OPERA | G.PUCCINI LA BOHEME
DESCRIPTION:LA BOHEME by Puccini\non Wednesday 15th and Thursday 16th April 2026 at 7:30pm\nat\nChrist Church\, St Leonards-on-Sea\, TN37 6GL \nIn 2026\,  Opera South East\, in partnership with an 18-piece orchestra from the Hastings Philharmonic Orchestra\, will produce an opera with two fully staged performances of Puccini’s La Bohème. This will be delivered by OSE & HPO providing an academy for singers and conductors to work with chorus and orchestra.
URL:https://stockaizabela.com/event/south-east-opera-g-puccini-la-boheme/
LOCATION:Christ Church\, St. Leonards-on-Sea\, Silchester Rd\, Saint Leonards-on-Sea\, TN37 6GL\, United Kingdom
END:VEVENT
BEGIN:VEVENT
DTSTART;TZID=Europe/Zurich:20260501T193000
DTEND;TZID=Europe/Zurich:20260501T210000
DTSTAMP:20260419T164257
CREATED:20260326T154235Z
LAST-MODIFIED:20260326T154235Z
UID:29488-1777663800-1777669200@stockaizabela.com
SUMMARY:ULSTER ORCHESTRA | CLASSICAL ADVENTURES
DESCRIPTION:Prokofiev Symphony No.1 Classical\nMozart Violin Concerto No. 5 Turkish\nBeethoven Symphony No.1 \nMICHAEL COLLINS CONDUCTOR\nANTJE WEITHAAS VIOLIN \nAll the poise\, elegance and grace of the Classical period is in this concert – on the surface. But each piece shows its composer in an inventive mood\, pushing the boundaries of what was expected and creating something new. Prokofiev imagined how Mozart or Haydn might write in the 1920s and produced his charming First Symphony. Mozart used his Fifth Violin Concerto to play with tempo and style\, creating his most brilliant\, lyrical and witty writing for the instrument. And Beethoven’s First Symphony contains all the clues required to understand that this was no ordinary composer – he would take the symphony to somewhere entirely new. \nMichael Collins: Our New Principal Guest Artist\nWe’re delighted that Michael Collins is joining us as Principal Guest Artist. Michael’s talents as both clarinettist and conductor will be on show across the next three seasons at the Ulster Hall\, and as part of our regional and BBC broadcast activities. We’ve developed a close musical relationship with Michael over the last few seasons and are excited to see how this will develop\, given Michael’s extraordinary musicality and the connection with our players.
URL:https://stockaizabela.com/event/ulster-orchestra-classical-adventures/
LOCATION:Ulster Hall\, 4 Bedford Street\, Belfast\, BT2 7FF\, United Kingdom
END:VEVENT
END:VCALENDAR